BEGIN:VCALENDAR
VERSION:2.0
PRODID:-//Diefenbunker: Canada’s Cold War Museum - ECPv6.15.20//NONSGML v1.0//EN
CALSCALE:GREGORIAN
METHOD:PUBLISH
X-WR-CALNAME:Diefenbunker: Canada’s Cold War Museum
X-ORIGINAL-URL:https://diefenbunker.ca
X-WR-CALDESC:Events for Diefenbunker: Canada’s Cold War Museum
REFRESH-INTERVAL;VALUE=DURATION:PT1H
X-Robots-Tag:noindex
X-PUBLISHED-TTL:PT1H
BEGIN:VTIMEZONE
TZID:America/Halifax
BEGIN:DAYLIGHT
TZOFFSETFROM:-0400
TZOFFSETTO:-0300
TZNAME:ADT
DTSTART:20240310T060000
END:DAYLIGHT
BEGIN:STANDARD
TZOFFSETFROM:-0300
TZOFFSETTO:-0400
TZNAME:AST
DTSTART:20241103T050000
END:STANDARD
BEGIN:DAYLIGHT
TZOFFSETFROM:-0400
TZOFFSETTO:-0300
TZNAME:ADT
DTSTART:20250309T060000
END:DAYLIGHT
BEGIN:STANDARD
TZOFFSETFROM:-0300
TZOFFSETTO:-0400
TZNAME:AST
DTSTART:20251102T050000
END:STANDARD
BEGIN:DAYLIGHT
TZOFFSETFROM:-0400
TZOFFSETTO:-0300
TZNAME:ADT
DTSTART:20260308T060000
END:DAYLIGHT
BEGIN:STANDARD
TZOFFSETFROM:-0300
TZOFFSETTO:-0400
TZNAME:AST
DTSTART:20261101T050000
END:STANDARD
END:VTIMEZONE
BEGIN:VEVENT
DTSTART;TZID=America/Halifax:20250215T123000
DTEND;TZID=America/Halifax:20250215T150000
DTSTAMP:20260423T150812
CREATED:20250117T163935Z
LAST-MODIFIED:20250215T213040Z
UID:10000047-1739622600-1739631600@diefenbunker.ca
SUMMARY:Winterlude 2025: Diefenbunker Winter Carnival | Le carnaval d’hiver du Diefenbunker
DESCRIPTION:UPDATE: Activities at the Huntley Community Centre and outdoor rink have been cancelled due to unforeseen circumstances. We apologize for any inconvenience. You can still enjoy Winterlude activities at the Diefenbunker\, including a Snowflake Scavenger Hunt and a temporary exhibit on the historic CFS Carp Winter Carnival. \n  \nDelight in winter traditions with ice skating and an exhibit on the Diefenbunker’s historic Winter Carnival.  \n During its time as a military base\, the Diefenbunker held an annual Winter Carnival. Participate in these historic activities\, with a modern twist as you lace up your skates for a day of fun at the outdoor rink. Take a break to explore a temporary exhibit highlighting the stories and traditions of the historic Winter Carnival.  \nAll activities are free. This event is in collaboration with the Huntley Community Association. \nTime: 12:30 – 3:00 p.m.\nLocation: Outdoor Rink\, Huntley Community Association\n108 Juanita Ave\, Carp\, ON K0A 1L0 \n  \n\nParticipez à des traditions hivernales avec le patinage et une exposition à propos du carnaval d’hiver historique du Diefenbunker.  \nÀ l’époque où il servait de base militaire\, le Diefenbunker organisait un carnaval d’hiver annuel. Lacez vos patins pour faire du patinage sur la patinoire extérieure. Explorez une exposition temporaire qui présente les histoires et les traditions du carnaval d’hiver historique.  \nLes activités sont gratuites. Cet événement est en collaboration avec Huntley Community Association.  \n Horaire : 12 h 30 à 15 h 00\nEndroit : Patinoire extérieure\, Huntley Community Centre\n108 av Juanita\, Carp\, ON K0A 1L0  \n  \n\nOther Winterlude events at the Diefenbunker | Autres événements de Winterlude au Diefenbunker \nIndigenous Craft Workshop | Atelier d’artisanat autochtone  \nMeet the artist of “Hidden Heroes” exhibition | Rencontrez l’artiste de l’exposition « Héros méconnus »  \n 
URL:https://diefenbunker.ca/events/2025-winterlude-diefenbunker-winter-carnival/
LOCATION:Outdoor Rink\, Huntley Community Association\, 108 Juanita Ave\, Carp\, Ontario\, K0A 1L0\, Canada
CATEGORIES:Events EN
ATTACH;FMTTYPE=image/png:https://diefenbunker.ca/wp-content/uploads/2025/01/Winterlude-2025-Diefenbunker-Week-3.png
END:VEVENT
END:VCALENDAR