BEGIN:VCALENDAR
VERSION:2.0
PRODID:-//Diefenbunker: Canada’s Cold War Museum - ECPv6.15.20//NONSGML v1.0//EN
CALSCALE:GREGORIAN
METHOD:PUBLISH
X-ORIGINAL-URL:https://diefenbunker.ca
X-WR-CALDESC:Events for Diefenbunker: Canada’s Cold War Museum
REFRESH-INTERVAL;VALUE=DURATION:PT1H
X-Robots-Tag:noindex
X-PUBLISHED-TTL:PT1H
BEGIN:VTIMEZONE
TZID:America/Halifax
BEGIN:DAYLIGHT
TZOFFSETFROM:-0400
TZOFFSETTO:-0300
TZNAME:ADT
DTSTART:20240310T060000
END:DAYLIGHT
BEGIN:STANDARD
TZOFFSETFROM:-0300
TZOFFSETTO:-0400
TZNAME:AST
DTSTART:20241103T050000
END:STANDARD
BEGIN:DAYLIGHT
TZOFFSETFROM:-0400
TZOFFSETTO:-0300
TZNAME:ADT
DTSTART:20250309T060000
END:DAYLIGHT
BEGIN:STANDARD
TZOFFSETFROM:-0300
TZOFFSETTO:-0400
TZNAME:AST
DTSTART:20251102T050000
END:STANDARD
BEGIN:DAYLIGHT
TZOFFSETFROM:-0400
TZOFFSETTO:-0300
TZNAME:ADT
DTSTART:20260308T060000
END:DAYLIGHT
BEGIN:STANDARD
TZOFFSETFROM:-0300
TZOFFSETTO:-0400
TZNAME:AST
DTSTART:20261101T050000
END:STANDARD
END:VTIMEZONE
BEGIN:VEVENT
DTSTART;TZID=America/Halifax:20250607T100000
DTEND;TZID=America/Halifax:20250607T150000
DTSTAMP:20260423T183414
CREATED:20250303T154918Z
LAST-MODIFIED:20250523T164408Z
UID:10000058-1749290400-1749308400@diefenbunker.ca
SUMMARY:2025 Doors Open Ottawa at the Diefenbunker
DESCRIPTION:By reservation only\, the Diefenbunker: Canada’s Cold War Museum will be open to visitors for free Highlights Tours for Doors Open Ottawa on Saturday\, June 7\, 2025. \nBook your tickets for a free 30-minute Highlights Tour\, which will cover key areas in the Diefenbunker like the Blast Tunnel\, the War Cabinet Room\, and the Prime Minister’s Suite — ideal for first-time visitors to the museum!  \nDate: Saturday\, June 7\, 2025 (one day only!)  \nTime: 10:00 a.m. – 3:00 p.m.\, with designated entry time slots for each tour  \n\nEntry time slots are every 15 minutes beginning at 10:00 a.m. \nThe last entry time is 2:15 p.m. \n\nAdmission: Free  \n\nTickets must be reserved in advance\, as there are designated entry time slots and limited spots available \nParking is always free! \n\nDetails:  \n\nThere will be no option for general admission or self-guided exploration of the museum this day — only the scheduled Highlights Tours. \nDue to capacity and demand\, tickets must be reserved in advance. Walk-up visitors may not be admitted. \nPlease arrive 15 minutes prior to your designated entry time for the start of the tour. Late arrivals may not be admitted. \nHighlights Tours are offered in English\, with select French tours available. \nThe Gift Shop will be open to explore after your tour. \nWe encourage you to check out the free Interpretive Trail outside the museum before or after your tour. \nOutdoor toilets are available in the museum parking lot for public use. Fully accessible washrooms are available inside the museum.\n\nWhile admission is free on June 7 for Doors Open Ottawa\, we welcome donations to support our unique museum\, national historic site\, and independent charitable organization.  \nWe look forward to welcoming you underground!  \n>> RESERVE TICKETS \n   \nDescend into history\, 75 feet underground\, and discover unforgettable experiences. \nThe Diefenbunker is Canada’s most significant surviving Cold War artifact — it is an impressive four-storey underground facility that operated as the country’s central communications headquarters during the Cold War\, ready at any moment in case of a nuclear attack.  \nToday\, it is a one-of-a-kind museum and national historic site\, preserving important Canadian Cold War stories and artifacts and welcoming visitors from all around the world. The Diefenbunker is a remarkable immersive history destination\, offering a window into the past through award-winning exhibitions\, tours\, programs\, events\, and escape rooms.  \n————————————————————————————————————–  \nThe City of Ottawa is proud to present Doors Open Ottawa — a free annual architectural event that celebrates our community’s built heritage. Learn more about 2025 Doors Open Ottawa. 
URL:https://diefenbunker.ca/events/doors-open-ottawa-2025/
LOCATION:Diefenbunker: Canada’s Cold War Museum\, 3929 Carp Road\, Ottawa\, Ontario\, K0A 1L0\, Canada
CATEGORIES:Events EN
ATTACH;FMTTYPE=image/png:https://diefenbunker.ca/wp-content/uploads/2024/09/Doors-Open-2024-Diefenbunker.png
END:VEVENT
END:VCALENDAR