BEGIN:VCALENDAR
VERSION:2.0
PRODID:-//Diefenbunker: Canada’s Cold War Museum - ECPv6.15.20//NONSGML v1.0//EN
CALSCALE:GREGORIAN
METHOD:PUBLISH
X-ORIGINAL-URL:https://diefenbunker.ca
X-WR-CALDESC:Events for Diefenbunker: Canada’s Cold War Museum
REFRESH-INTERVAL;VALUE=DURATION:PT1H
X-Robots-Tag:noindex
X-PUBLISHED-TTL:PT1H
BEGIN:VTIMEZONE
TZID:America/Halifax
BEGIN:DAYLIGHT
TZOFFSETFROM:-0400
TZOFFSETTO:-0300
TZNAME:ADT
DTSTART:20240310T060000
END:DAYLIGHT
BEGIN:STANDARD
TZOFFSETFROM:-0300
TZOFFSETTO:-0400
TZNAME:AST
DTSTART:20241103T050000
END:STANDARD
BEGIN:DAYLIGHT
TZOFFSETFROM:-0400
TZOFFSETTO:-0300
TZNAME:ADT
DTSTART:20250309T060000
END:DAYLIGHT
BEGIN:STANDARD
TZOFFSETFROM:-0300
TZOFFSETTO:-0400
TZNAME:AST
DTSTART:20251102T050000
END:STANDARD
BEGIN:DAYLIGHT
TZOFFSETFROM:-0400
TZOFFSETTO:-0300
TZNAME:ADT
DTSTART:20260308T060000
END:DAYLIGHT
BEGIN:STANDARD
TZOFFSETFROM:-0300
TZOFFSETTO:-0400
TZNAME:AST
DTSTART:20261101T050000
END:STANDARD
END:VTIMEZONE
BEGIN:VEVENT
DTSTART;TZID=America/Halifax:20250419T100000
DTEND;TZID=America/Halifax:20250419T150000
DTSTAMP:20260419T232507
CREATED:20250303T153714Z
LAST-MODIFIED:20250523T164440Z
UID:10000057-1745056800-1745074800@diefenbunker.ca
SUMMARY:Easter at the Bunker 2025
DESCRIPTION:Spring has sprung! Join us underground at the Diefenbunker for some springtime family fun. \nYou’re invited to explore our four-storey Cold War bunker while searching for signs of spring. Participate in our scavenger hunt for camouflaged Easter eggs and flowers\, decorate a butterfly or an egg at our craft station\, and find small treats along the way. You can also take home a memento of the day with a fun photo booth. \nThis year\, our groundhog Bunker Buddy\, Pudge\, has brought a friend! Keep an eye out for a special visitor looking to collect the eggs they left behind. \nHop on over to the Diefenbunker — we’re egg-cited to see you! \n\nDate: Saturday\, April 19\, 2025 \nTime: 10:00 a.m. – 3:00 p.m.\, with designated entry time slots  \n\nEntry time slots are every 15 minutes beginning at 10:00 a.m.\nThe last entry time is 2:00 p.m. and the museum closes at 3:00 p.m.\nPlease arrive during your scheduled entry time. If you miss your entry time\, you may need to wait outside the museum due to capacity limits.\n\nAdmission:  \n\n$13 per person; Infants 2 and under are free.\nTickets must be purchased in advance\, as there are designated entry time slots and limited spots available.\nParking is always free!\n\nDetails:  \n\nUpon arrival\, you will receive information on the activities.\nAll items on the scavenger hunt are visual and do not involve picking up or holding any objects. There are no physical eggs or chocolates in the scavenger hunt. Any treats provided are found at activity stations throughout the museum (nut-free\, and while supplies last).\nBetween 11:00 a.m. and 2:00 p.m.\, you can take your photo in a photobooth\, courtesy of Enchanted Booth! They’re the city’s one-stop shop for photo booth rental in Ottawa. Be sure to stop by their booth for a fun photo (or two!) and take home some digital memories.\nPlease note that the multiple levels\, stairs\, and narrow hallways in the Diefenbunker can make the museum difficult to navigate with a stroller. We recommend bringing a baby carrier instead\, if this is a feasible option for you. Learn more about accessibility.\n\n>> BOOK YOUR TICKETS\n\n*The museum will not be open for general admission on Saturday\, April 19; only to those with tickets for Easter at the Bunker. \n*On Good Friday\, April 18\, we will be open for general admission and guided tours from 10:00 a.m. to 3:00 p.m. We highly recommend you book your Easter weekend tickets in advance.
URL:https://diefenbunker.ca/events/easter-at-the-bunker-2025/
LOCATION:Diefenbunker: Canada’s Cold War Museum\, 3929 Carp Road\, Ottawa\, Ontario\, K0A 1L0\, Canada
CATEGORIES:Events EN
ATTACH;FMTTYPE=image/png:https://diefenbunker.ca/wp-content/uploads/2025/03/20220416_091904-scaled-1-scaled-2.png
END:VEVENT
END:VCALENDAR