BEGIN:VCALENDAR
VERSION:2.0
PRODID:-//Diefenbunker: Canada’s Cold War Museum - ECPv6.15.20//NONSGML v1.0//EN
CALSCALE:GREGORIAN
METHOD:PUBLISH
X-WR-CALNAME:Diefenbunker: Canada’s Cold War Museum
X-ORIGINAL-URL:https://diefenbunker.ca
X-WR-CALDESC:Events for Diefenbunker: Canada’s Cold War Museum
REFRESH-INTERVAL;VALUE=DURATION:PT1H
X-Robots-Tag:noindex
X-PUBLISHED-TTL:PT1H
BEGIN:VTIMEZONE
TZID:America/Halifax
BEGIN:DAYLIGHT
TZOFFSETFROM:-0400
TZOFFSETTO:-0300
TZNAME:ADT
DTSTART:20240310T060000
END:DAYLIGHT
BEGIN:STANDARD
TZOFFSETFROM:-0300
TZOFFSETTO:-0400
TZNAME:AST
DTSTART:20241103T050000
END:STANDARD
BEGIN:DAYLIGHT
TZOFFSETFROM:-0400
TZOFFSETTO:-0300
TZNAME:ADT
DTSTART:20250309T060000
END:DAYLIGHT
BEGIN:STANDARD
TZOFFSETFROM:-0300
TZOFFSETTO:-0400
TZNAME:AST
DTSTART:20251102T050000
END:STANDARD
BEGIN:DAYLIGHT
TZOFFSETFROM:-0400
TZOFFSETTO:-0300
TZNAME:ADT
DTSTART:20260308T060000
END:DAYLIGHT
BEGIN:STANDARD
TZOFFSETFROM:-0300
TZOFFSETTO:-0400
TZNAME:AST
DTSTART:20261101T050000
END:STANDARD
END:VTIMEZONE
BEGIN:VEVENT
DTSTART;TZID=America/Halifax:20250131T000000
DTEND;TZID=America/Halifax:20250216T000000
DTSTAMP:20260419T153437
CREATED:20250117T175154Z
LAST-MODIFIED:20250203T145850Z
UID:10000048-1738281600-1739664000@diefenbunker.ca
SUMMARY:Snowflake Scavenger Hunt | Chasse au trésor des flocons de neige
DESCRIPTION:Stay warm and explore our 100\,000-square-foot underground museum as you search for snowflakes and other signs of winter in our Snowflake Scavenger Hunt.   \nFamilies will be given a guide for a visual scavenger hunt\, with three levels of difficulty to suit all abilities.  \nThis event is included in the cost of museum admission.  \n Friday\, January 31 – Sunday\, February 16\, 2024 During the museum’s operational hours  \nPlan your visit\n  \n\nRéchauffez-vous et explorez un musée souterrain de 9290 m2 à la recherche des flocons de neige et d’autres symboles de l’hiver dans notre Chasse au trésor des flocons de neige.    \nLes familles seront fournies d’un guide pour un chasse au trésor visuel avec trois niveaux de difficulté pour convenir à toute capacité.  \nCet événement est compris avec l’entrée générale au musée.  \nLe vendredi 31 janvier au dimanche 16 février\, 2024 Pendant les heures d’ouverture du musée  \nPlanifiez votre visite\n 
URL:https://diefenbunker.ca/events/2025-winterlude-snowflake-scavenger-hunt/
LOCATION:Diefenbunker: Canada’s Cold War Museum\, 3929 Carp Road\, Ottawa\, Ontario\, K0A 1L0\, Canada
CATEGORIES:Events EN
ATTACH;FMTTYPE=image/jpeg:https://diefenbunker.ca/wp-content/uploads/2025/01/Bunker-Exterior_Pudge-in-first-snowfall_Nov-16-2022_01-scaled.jpg
END:VEVENT
BEGIN:VEVENT
DTSTART;TZID=America/Halifax:20250201T110000
DTEND;TZID=America/Halifax:20250201T140000
DTSTAMP:20260419T153437
CREATED:20250117T154923Z
LAST-MODIFIED:20250203T145842Z
UID:10000044-1738407600-1738418400@diefenbunker.ca
SUMMARY:Winterlude 2025: Indigenous Craft Workshop | Atelier d’artisanat autochtone
DESCRIPTION:Appreciate the diversity of Indigenous cultures through an interactive workshop where you’ll create a traditional Indigenous craft\, facilitated by Makatew Workshops.  \nThe Diefenbunker values art as a means for expressing important personal connections with our history and its impacts that are still present today. Participate in a hands-on\, educational workshop where you’ll assemble a traditional Indigenous craft — a medicine bag — while learning about its history and significance. As you craft\, topics like truth and reconciliation and cultural appropriation vs. appreciation will be introduced\, in an open environment to ask questions.  \nThis event is in collaboration with Makatew Workshops. Advance registration is required\, as spots are limited. Youth must be accompanied by an adult.  \nThis event is included in the cost of museum admission. The Diefenbunker offers free admission to First Nations\, Inuit\, and Métis individuals.  \nWorkshop 1: 11:00 – 12:30 p.m. \nWorkshop 2: 12:30 – 2:00 p.m. \nReserve tickets\n  \n\nAppréciez la diversité des cultures autochtones à travers un atelier interactif où vous créerez un artisanat autochtone traditionnel\, animé par Makatew Workshops.  \nLe Diefenbunker valorise l’art en tant que moyen d’exprimer des liens personnels avec notre histoire et les impacts qui sont encore présents. Participez à un atelier éducatif où vous créerez un artisanat autochtone traditionnel — un petit sac de médecine — en apprenant à propos de la vérité et de la réconciliation et les cultures autochtones. C’est un environnement ouvert et accueillant pour discuter et poser des questions.  \nCet événement est en collaboration avec Makatew Workshops. Une inscription est requise\, car les places sont limitées. Tout enfant doit être accompagné par un adulte.  \nCet événement est compris avec l’entrée générale au musée. Le Diefenbunker offre l’entrée gratuite pour les Premières Nations\, les Inuit et les Métis.  \nAtelier 1: 11 h 00 à 12 h 30  \nAtelier 2: 12 h 30 à 14 h 00 \nReservez des billets \n  \n\nOther Winterlude events at the Diefenbunker | Autres événements de Winterlude au Diefenbunker \nMeet the artist of “Hidden Heroes” exhibition | Rencontrez l’artiste de l’exposition « Héros méconnus »  \nDiefenbunker Winter Carnival | Le carnaval d’hiver du Diefenbunker 
URL:https://diefenbunker.ca/events/2025-winterlude-indigenous-craft-workshop/
LOCATION:Diefenbunker: Canada’s Cold War Museum\, 3929 Carp Road\, Ottawa\, Ontario\, K0A 1L0\, Canada
CATEGORIES:Events EN
ATTACH;FMTTYPE=image/png:https://diefenbunker.ca/wp-content/uploads/2025/01/Winterlude-2025-Diefenbunker-Week-1.png
END:VEVENT
BEGIN:VEVENT
DTSTART;TZID=America/Halifax:20250208T140000
DTEND;TZID=America/Halifax:20250209T140000
DTSTAMP:20260419T153437
CREATED:20250117T161421Z
LAST-MODIFIED:20250203T145831Z
UID:10000046-1739023200-1739109600@diefenbunker.ca
SUMMARY:Winterlude 2025: “Hidden Heroes” of the Cold War | « Héros méconnus » de l’histoire
DESCRIPTION:Meet with 2024 Artist-in-Residence Don Kwan at the Diefenbunker Museum to learn about the exhibition “Hidden Heroes”.  \n“Hidden Heroes” weaves together stories of unsung heroes\, through intricate sculptures that highlight diverse narratives from our history.  \nExperience this exhibition and discover the meanings behind the artwork in a talk with artist Don Kwan\, the Diefenbunker’s 2024 Artist-in-Residence. You’ll participate in an engaging presentation and walkthrough of the exhibition\, plus a Q&A.  \nThis event is included in the cost of museum admission. Advance registration is required\, as spots are limited. \nTour 1: Saturday\, February 8\, 2:00 – 3:00 p.m. \nTour 2: Sunday\, February 9\, 1:00 – 2:00 p.m. \nReserve tickets\n  \n\nRencontrez l’artiste en résidence de 2024\, Don Kwan\, au Diefenbunker pour en apprendre davantage sur l’exposition « Héroïnes et héros méconnus ».  \n« Héroïnes et héros méconnus » tisse et assemble des histoires de héros méconnus\, à travers des sculptures complexes qui mettent en lumière les récits divers de notre histoire.  \nExplorez cette exposition et découvrir le sens des œuvres par une discussion avec l’artiste Don Kwan\, l’artiste en résidence du Diefenbunker de 2024. Écoutez une présentation\, parcourez l’exposition et poser des questions à l’artiste.  \nCet événement est compris avec l’entrée générale au musée. Une inscription est requise\, car les places sont limitées.  \nVisite guideé 1 : samedi 8 février\, 14 h 00 à 15 h 00 \nVisite guidée 2 : dimanche 9 février\, 13 h 00 à 14 h 00 \nReservez des billets\n  \n\nOther Winterlude events at the Diefenbunker | Autres événements de Winterlude au Diefenbunker\nIndigenous Craft Workshop | Atelier d’artisanat autochone \nDiefenbunker Winter Carnival | Le carnaval d’hiver du Diefenbunker 
URL:https://diefenbunker.ca/events/2025-winterlude-hidden-heroes/
LOCATION:Diefenbunker: Canada’s Cold War Museum\, 3929 Carp Road\, Ottawa\, Ontario\, K0A 1L0\, Canada
CATEGORIES:Events EN
ATTACH;FMTTYPE=image/png:https://diefenbunker.ca/wp-content/uploads/2025/01/Winterlude-2025-Diefenbunker-Week-2.png
END:VEVENT
BEGIN:VEVENT
DTSTART;TZID=America/Halifax:20250215T123000
DTEND;TZID=America/Halifax:20250215T150000
DTSTAMP:20260419T153437
CREATED:20250117T163935Z
LAST-MODIFIED:20250215T213040Z
UID:10000047-1739622600-1739631600@diefenbunker.ca
SUMMARY:Winterlude 2025: Diefenbunker Winter Carnival | Le carnaval d’hiver du Diefenbunker
DESCRIPTION:UPDATE: Activities at the Huntley Community Centre and outdoor rink have been cancelled due to unforeseen circumstances. We apologize for any inconvenience. You can still enjoy Winterlude activities at the Diefenbunker\, including a Snowflake Scavenger Hunt and a temporary exhibit on the historic CFS Carp Winter Carnival. \n  \nDelight in winter traditions with ice skating and an exhibit on the Diefenbunker’s historic Winter Carnival.  \n During its time as a military base\, the Diefenbunker held an annual Winter Carnival. Participate in these historic activities\, with a modern twist as you lace up your skates for a day of fun at the outdoor rink. Take a break to explore a temporary exhibit highlighting the stories and traditions of the historic Winter Carnival.  \nAll activities are free. This event is in collaboration with the Huntley Community Association. \nTime: 12:30 – 3:00 p.m.\nLocation: Outdoor Rink\, Huntley Community Association\n108 Juanita Ave\, Carp\, ON K0A 1L0 \n  \n\nParticipez à des traditions hivernales avec le patinage et une exposition à propos du carnaval d’hiver historique du Diefenbunker.  \nÀ l’époque où il servait de base militaire\, le Diefenbunker organisait un carnaval d’hiver annuel. Lacez vos patins pour faire du patinage sur la patinoire extérieure. Explorez une exposition temporaire qui présente les histoires et les traditions du carnaval d’hiver historique.  \nLes activités sont gratuites. Cet événement est en collaboration avec Huntley Community Association.  \n Horaire : 12 h 30 à 15 h 00\nEndroit : Patinoire extérieure\, Huntley Community Centre\n108 av Juanita\, Carp\, ON K0A 1L0  \n  \n\nOther Winterlude events at the Diefenbunker | Autres événements de Winterlude au Diefenbunker \nIndigenous Craft Workshop | Atelier d’artisanat autochtone  \nMeet the artist of “Hidden Heroes” exhibition | Rencontrez l’artiste de l’exposition « Héros méconnus »  \n 
URL:https://diefenbunker.ca/events/2025-winterlude-diefenbunker-winter-carnival/
LOCATION:Outdoor Rink\, Huntley Community Association\, 108 Juanita Ave\, Carp\, Ontario\, K0A 1L0\, Canada
CATEGORIES:Events EN
ATTACH;FMTTYPE=image/png:https://diefenbunker.ca/wp-content/uploads/2025/01/Winterlude-2025-Diefenbunker-Week-3.png
END:VEVENT
END:VCALENDAR