BEGIN:VCALENDAR
VERSION:2.0
PRODID:-//Diefenbunker: Canada’s Cold War Museum - ECPv6.15.20//NONSGML v1.0//EN
CALSCALE:GREGORIAN
METHOD:PUBLISH
X-ORIGINAL-URL:https://diefenbunker.ca
X-WR-CALDESC:Events for Diefenbunker: Canada’s Cold War Museum
REFRESH-INTERVAL;VALUE=DURATION:PT1H
X-Robots-Tag:noindex
X-PUBLISHED-TTL:PT1H
BEGIN:VTIMEZONE
TZID:America/Halifax
BEGIN:DAYLIGHT
TZOFFSETFROM:-0400
TZOFFSETTO:-0300
TZNAME:ADT
DTSTART:20230312T060000
END:DAYLIGHT
BEGIN:STANDARD
TZOFFSETFROM:-0300
TZOFFSETTO:-0400
TZNAME:AST
DTSTART:20231105T050000
END:STANDARD
BEGIN:DAYLIGHT
TZOFFSETFROM:-0400
TZOFFSETTO:-0300
TZNAME:ADT
DTSTART:20240310T060000
END:DAYLIGHT
BEGIN:STANDARD
TZOFFSETFROM:-0300
TZOFFSETTO:-0400
TZNAME:AST
DTSTART:20241103T050000
END:STANDARD
BEGIN:DAYLIGHT
TZOFFSETFROM:-0400
TZOFFSETTO:-0300
TZNAME:ADT
DTSTART:20250309T060000
END:DAYLIGHT
BEGIN:STANDARD
TZOFFSETFROM:-0300
TZOFFSETTO:-0400
TZNAME:AST
DTSTART:20251102T050000
END:STANDARD
END:VTIMEZONE
BEGIN:VEVENT
DTSTART;TZID=America/Halifax:20241017T190000
DTEND;TZID=America/Halifax:20241017T203000
DTSTAMP:20260419T222729
CREATED:20240907T055031Z
LAST-MODIFIED:20250415T130041Z
UID:10000002-1729191600-1729197000@diefenbunker.ca
SUMMARY:2024 Cold War Speaker Series: Canada and the US in the early Cold War
DESCRIPTION:We invite you to join us this fall for the Diefenbunker’s Cold War Speaker Series! In this series of free events\, hear from experts on a variety of topics to bring you new perspectives on Cold War themes and events. \nEvent 2\nDate: Thursday\, October 17\, 2024\nTime: 7:00 – 8:15 p.m. ET\nLocation: Virtual\nCost: Free \nTopic: Canada and the US in the early Cold War\nSpeaker: Dr. Asa McKercher \nDetails:\n– Hosted virtually on Zoom. Advance registration is required to receive the Zoom link.\n– Includes a presentation followed by a Q&A.\n– Session will be recorded for educational purposes and made available after the event. \n>> REGISTER NOW\n\nOverview\nGetting into Bed with the Elephant: Canada-US Relations in the Early Cold War\nThis talk will give an overview of Canada’s political relationship with United States during the early era of the Cold War (1945-1965)\, of how both governments worked together during the crises of the era\, and how the legacy of the period can be felt today we see another election year in the United States. \nAbout the speaker\nAsa McKercher (PhD\, Cambridge) is Stanley K. Hudson Research Chair in Canada-US Relations and Associate Professor at the Mulroney Institute of Government\, St. Francis Xavier University. His books include Building a Special Relationship: Canada-US Relations in the Eisenhower Era\, 1953-1961 (UBC Press\, 2024) and Camelot and Canada: Canadian-American Relations in the Kennedy Era (Oxford\, 2016)\, as well as the edited collections North of America: Canadians and the American Century\, 1945-61 (UBC Press\, 2023) and Mike’s World: Lester B. Pearson and Canadian External Affairs (UBC Press\, 2017). He is Editor-in-Chief of International Journal\, Canada’s journal of global policy analysis. A specialist in Canada-US relations\, Canadian foreign policy\, US foreign policy\, and North American political and cultural history\, he has previously taught at Queen’s University\, McMaster University\, and the Royal Military College of Canada. \n\nNeptunium Sponsor\n \n  \n  \nMedia Sponsor\nOttawa Citizen \n\nLearn more about the other events in the 2024 Cold War Speaker Series!\nSeptember 12\, 2024: Women in Canada’s Cold War Military \nNovember 14\, 2024: Canada and NATO during the Cold War \nInterested in sponsoring the Speaker Series? Headline sponsor opportunities are available. Your support enables us to continue offering these events for free. See the opportunities here.
URL:https://diefenbunker.ca/events/2024-cold-war-speaker-series-october/
LOCATION:Virtual\, Virtual
CATEGORIES:Events EN
ATTACH;FMTTYPE=image/png:https://diefenbunker.ca/wp-content/uploads/2024/09/2024-Speaker-Series-website-banner.png
END:VEVENT
BEGIN:VEVENT
DTSTART;TZID=America/Halifax:20241023T090000
DTEND;TZID=America/Halifax:20241025T123000
DTSTAMP:20260419T222729
CREATED:20240907T055840Z
LAST-MODIFIED:20241105T134847Z
UID:10000003-1729674000-1729859400@diefenbunker.ca
SUMMARY:Toddlers’ Halloween Hunt
DESCRIPTION:Our annual Toddlers’ Halloween Hunt is back! Bring your little ones for a day of fun to get them into the Halloween spirit.  \nCome dressed in your favourite costume and explore hidden Halloween surprises in our 100\,000-square-foot underground bunker that will be decked out for the occasion. \nEnjoy the fun atmosphere\, music\, decorations\, and perfect photo ops as you search throughout the bunker to find treats\, crafts\, and other themed activities. Take home a photo printout as a memento\, courtesy of Flash Photobooth Ottawa. \nYou won’t want to miss out on this fa-boo-lous event!  \nDate: Wednesday\, October 23 to Friday\, October 25\, 2024\nTime: Reserve your tickets in advance\, as there are designated time slots and limited spots available. Entry time slots are every 30 minutes between 9:00 a.m. and 12:00 p.m. The event ends at 12:30 p.m. \nCost: $12 per person; Children 5 years old and under are free. Parking is always free! \n>> Reserve your tickets\nInterested in sponsoring this event? See the opportunities here. \n\n*Please note that the multiple levels\, stairs\, and narrow hallways in the Diefenbunker make the museum difficult to navigate with a stroller\, and there is no elevator available for public use. While there is an accessible stair lift\, we recommend bringing a baby carrier instead of a stroller\, if this is a feasible option for you. Learn more about accessibility. \n*The museum will be closed for general admission during this event and will re-open at 12:30 p.m. \n    \n\n\nTHANK YOU TO OUR EVENT SPONSORS\nNEPTUNIUM\n \nThanks to Flash Photobooth Ottawa for their photobooth services and to Zak’s Diner for stocking the treat bags.
URL:https://diefenbunker.ca/events/2024-toddlers-halloween-hunt/
LOCATION:Diefenbunker: Canada’s Cold War Museum\, 3929 Carp Road\, Ottawa\, Ontario\, K0A 1L0\, Canada
CATEGORIES:Events EN
ATTACH;FMTTYPE=image/png:https://diefenbunker.ca/wp-content/uploads/2024/09/2024.png
END:VEVENT
END:VCALENDAR