BEGIN:VCALENDAR
VERSION:2.0
PRODID:-//Diefenbunker: Canada’s Cold War Museum - ECPv6.15.20//NONSGML v1.0//EN
CALSCALE:GREGORIAN
METHOD:PUBLISH
X-ORIGINAL-URL:https://diefenbunker.ca
X-WR-CALDESC:Events for Diefenbunker: Canada’s Cold War Museum
REFRESH-INTERVAL;VALUE=DURATION:PT1H
X-Robots-Tag:noindex
X-PUBLISHED-TTL:PT1H
BEGIN:VTIMEZONE
TZID:America/Halifax
BEGIN:DAYLIGHT
TZOFFSETFROM:-0400
TZOFFSETTO:-0300
TZNAME:ADT
DTSTART:20230312T060000
END:DAYLIGHT
BEGIN:STANDARD
TZOFFSETFROM:-0300
TZOFFSETTO:-0400
TZNAME:AST
DTSTART:20231105T050000
END:STANDARD
BEGIN:DAYLIGHT
TZOFFSETFROM:-0400
TZOFFSETTO:-0300
TZNAME:ADT
DTSTART:20240310T060000
END:DAYLIGHT
BEGIN:STANDARD
TZOFFSETFROM:-0300
TZOFFSETTO:-0400
TZNAME:AST
DTSTART:20241103T050000
END:STANDARD
BEGIN:DAYLIGHT
TZOFFSETFROM:-0400
TZOFFSETTO:-0300
TZNAME:ADT
DTSTART:20250309T060000
END:DAYLIGHT
BEGIN:STANDARD
TZOFFSETFROM:-0300
TZOFFSETTO:-0400
TZNAME:AST
DTSTART:20251102T050000
END:STANDARD
END:VTIMEZONE
BEGIN:VEVENT
DTSTART;TZID=America/Halifax:20240701T100000
DTEND;TZID=America/Halifax:20240701T150000
DTSTAMP:20260420T041548
CREATED:20240912T120625Z
LAST-MODIFIED:20240929T231913Z
UID:10000035-1719828000-1719846000@diefenbunker.ca
SUMMARY:50% off admission on July 1
DESCRIPTION:The Diefenbunker: Canada’s Cold War Museum will be opening its blast doors with discounted admission for visitors on Monday\, July 1\, 2024.\nDate: Monday\, July 1\, 2024\nTime: 10:00 a.m. – 3:00 p.m. with designated entry time slots every 15 minutes. The last entry time slot is at 2:00 p.m.\nCost: Discounted admission at 50% off the regular ticketed price. \nDetails:\n– Tickets must be reserved in advance\, as there are designated entry time slots and limited spots available. Due to capacity\, walk-up visitors may not be admitted.\n– Explore the museum and enjoy family-friendly activities like our outdoor obstacle course and indoor scavenger hunt.\n– There will be no guided tours available\, only self-guided exploration of the museum.\n– Our free nine-language Audio Guide can be accessed on your own device using the museum’s Wi-Fi. No Audio Guide devices will be available at the museum.\n– We also encourage you to check out the free Interpretive Trail outside the museum. \n>> RESERVE YOUR TICKETS\n  \nLand Acknowledgement:\nThe Diefenbunker was built on the traditional unceded\, unsurrendered Territory of the Anishinaabe Algonquin People\, whose presence here reaches back to time immemorial. \nThe Diefenbunker Museum acknowledges the ongoing legacy of harm to Indigenous people in Canada and the adverse impacts of the Cold War on Indigenous communities. The museum is committed to contributing to the Calls to Action set out in the Truth and Reconciliation Commission\, specifically numbers 67 to 70 related to museums and archives. We endeavour to increase the representation of important Indigenous histories\, perspectives\, and languages in our Cold War content\, and to ensure respectful interpretation in our spaces. We are continually working to develop close and collaborative relationships with Indigenous communities\, whether locally\, provincially\, or nationally. \nWe hope you join us in learning from our past as we build our collective future.
URL:https://diefenbunker.ca/events/50-off-admission-on-july-1-2024/
LOCATION:Diefenbunker: Canada’s Cold War Museum\, 3929 Carp Road\, Ottawa\, Ontario\, K0A 1L0\, Canada
CATEGORIES:Events EN
ATTACH;FMTTYPE=image/jpeg:https://diefenbunker.ca/wp-content/uploads/2024/09/Canada-Day-Event-Banner-copy-1.jpg
END:VEVENT
END:VCALENDAR