BEGIN:VCALENDAR
VERSION:2.0
PRODID:-//Diefenbunker: Canada’s Cold War Museum - ECPv6.15.20//NONSGML v1.0//EN
CALSCALE:GREGORIAN
METHOD:PUBLISH
X-ORIGINAL-URL:https://diefenbunker.ca
X-WR-CALDESC:Events for Diefenbunker: Canada’s Cold War Museum
REFRESH-INTERVAL;VALUE=DURATION:PT1H
X-Robots-Tag:noindex
X-PUBLISHED-TTL:PT1H
BEGIN:VTIMEZONE
TZID:America/Halifax
BEGIN:DAYLIGHT
TZOFFSETFROM:-0400
TZOFFSETTO:-0300
TZNAME:ADT
DTSTART:20230312T060000
END:DAYLIGHT
BEGIN:STANDARD
TZOFFSETFROM:-0300
TZOFFSETTO:-0400
TZNAME:AST
DTSTART:20231105T050000
END:STANDARD
BEGIN:DAYLIGHT
TZOFFSETFROM:-0400
TZOFFSETTO:-0300
TZNAME:ADT
DTSTART:20240310T060000
END:DAYLIGHT
BEGIN:STANDARD
TZOFFSETFROM:-0300
TZOFFSETTO:-0400
TZNAME:AST
DTSTART:20241103T050000
END:STANDARD
BEGIN:DAYLIGHT
TZOFFSETFROM:-0400
TZOFFSETTO:-0300
TZNAME:ADT
DTSTART:20250309T060000
END:DAYLIGHT
BEGIN:STANDARD
TZOFFSETFROM:-0300
TZOFFSETTO:-0400
TZNAME:AST
DTSTART:20251102T050000
END:STANDARD
END:VTIMEZONE
BEGIN:VEVENT
DTSTART;TZID=America/Halifax:20240601T100000
DTEND;TZID=America/Halifax:20240601T150000
DTSTAMP:20260422T060113
CREATED:20240912T115742Z
LAST-MODIFIED:20250516T185626Z
UID:10000032-1717236000-1717254000@diefenbunker.ca
SUMMARY:Doors Open Ottawa at the Diefenbunker
DESCRIPTION:By reservation only\, the Diefenbunker: Canada’s Cold War Museum will be opening its blast doors to visitors for FREE for Doors Open Ottawa on Saturday\, June 1\, 2024.\nBook your tickets for a free Highlights Tour\, which will cover key areas in the Diefenbunker like the Blast Tunnel\, the War Cabinet Room\, and the Prime Minister’s Suite — ideal for first-time visitors to the museum! Tours will last approximately 30 minutes. \nDetails:\n– Tickets must be reserved in advance\, as there are designated entry times and limited spots available. No walk-up visitors will be admitted.\n– Please arrive 15 minutes prior to your designated entry time for the start of the tour. Late arrivals may not be admitted.\n– Highlights Tours are offered in English\, with select French tours available.\n– There will be no option for general admission or self-guided exploration of the museum — only the scheduled Highlights Tours.\n– The Gift Shop will be open. We also encourage you to check out the free Interpretive Trail outside the museum. \nCost:\n– While admission is free on June 1 for Doors Open Ottawa\, we welcome donations to support our unique museum\, national historic site\, and independent charitable organization. \nWe look forward to welcoming you underground! \n   \n\nThe Diefenbunker is Canada’s most significant surviving Cold War artifact — it is an impressive four-storey underground facility that operated as the country’s central communications headquarters during the Cold War\, ready at any moment in case of a nuclear attack. \nToday\, it is a one-of-a-kind museum and national historic site\, preserving important Canadian Cold War stories and artifacts and welcoming visitors from all around the world. The Diefenbunker is a remarkable immersive history destination\, offering a window into the past through award-winning exhibitions\, tours\, programs\, events\, and escape rooms. \nDescend into history\, 75 feet underground\, and discover unforgettable experiences.
URL:https://diefenbunker.ca/events/2024-doors-open-ottawa/
LOCATION:Diefenbunker: Canada’s Cold War Museum\, 3929 Carp Road\, Ottawa\, Ontario\, K0A 1L0\, Canada
CATEGORIES:Events EN
ATTACH;FMTTYPE=image/png:https://diefenbunker.ca/wp-content/uploads/2024/09/Doors-Open-2024-Diefenbunker.png
END:VEVENT
BEGIN:VEVENT
DTSTART;TZID=America/Halifax:20240614T163000
DTEND;TZID=America/Halifax:20240614T213000
DTSTAMP:20260422T060113
CREATED:20240912T120036Z
LAST-MODIFIED:20250718T160937Z
UID:10000033-1718382600-1718400600@diefenbunker.ca
SUMMARY:Dief the Chief: October ’62
DESCRIPTION:See 2025 dates here\nDief the Chief: October ’62 is making its return this summer!\nJoin us this Father’s Day weekend as we welcome actor Pierre Brault in this touring play throughout the Diefenbunker that blends storytelling and history in a one-of-a-kind theatrical experience\, 75 feet underground. \nDates\n– Friday\, June 14 & Saturday\, June 15\n– Friday\, July 26 & Saturday\, July 27\n– Friday\, August 16 & Saturday\, August 17 \nShowtimes\nOn each of the six days\, the play will have three showings. The play runs for one hour.\n– 4:30 p.m. – 5:30 p.m.\n– 6:30 p.m. – 7:30 p.m.\n– 8:30 p.m. – 9:30 p.m. \nTickets\n– $55.00 per show \nTickets must be purchased in advance. \nAbout the production\nIt’s October 1962. Relive the heart-stopping story of the Cuban Missile Crisis through the eyes of Canada’s 13th Prime Minister\, John “Dief the Chief” Diefenbaker. Travel with “Dief the Chief” through the Diefenbunker into the War Cabinet Room as he and the world watch the USA and USSR face off in history’s closest brush with nuclear war. Hear in his own words how “Dief the Chief’s” rocky relationship with President John F. Kennedy played an extraordinary role in Canadian and American relations and how each influenced the other’s policies. \nJoin “Dief the Chief” as he navigates his way through the ultimate crisis that could see neighbours on both sides fight a nuclear war with Canada\, literally in the middle. The personal cost to him will be great as he deals with a demanding president\, a divided cabinet\, and a fierce opposition. \nWritten and performed by Pierre Brault with Peter Haworth as John Diefenbaker. This play is an artistic interpretation of historical events. \nPierre Brault is an Ottawa-based multi-award-winning actor\, playwright\, and stand-up comedian. He is best known for his solo plays Will Somers: Keeping your Hear\, Portrait of an Unidentified Man\, 5 O’clock Bells\, and Blood on the Moon. Pierre has toured his productions across Canada and abroad to Ireland and New Zealand\, and he has also worked extensively in film\, television\, and radio. \nWe look forward to raising the curtain once again for Dief the Chief: October ’62. \n\n>> RESERVE YOUR TICKETS\nBONUS: On the same day as your chosen showtime\, receive FREE general admission to the Diefenbunker: Canada’s Cold War Museum and explore the site during the museum’s operational hours. \nQuestions? Please email reservations@diefenbunker.ca. \n   \n\nRefunds can be requested for approval in writing to reservations@diefenbunker.ca.  \n\nCancellations are accepted without penalty if they are communicated at least two weeks in advance of the performance ticket date. Within two weeks\, a 50% cancellation fee will apply. Within 48 hours of performance ticket date\, no refunds or exchanges will be granted. \nNo refunds or exchanges will be granted for no-shows or late arrivals. \nEmergency cancellations are subject to the approval of our Operations Manager. 
URL:https://diefenbunker.ca/events/dief-the-chief-2024-1/
LOCATION:Diefenbunker: Canada’s Cold War Museum\, 3929 Carp Road\, Ottawa\, Ontario\, K0A 1L0\, Canada
CATEGORIES:Events EN
ATTACH;FMTTYPE=image/jpeg:https://diefenbunker.ca/wp-content/uploads/2024/09/map-scaled-1-scaled.jpg
END:VEVENT
END:VCALENDAR