BEGIN:VCALENDAR
VERSION:2.0
PRODID:-//Diefenbunker: Canada’s Cold War Museum - ECPv6.15.20//NONSGML v1.0//EN
CALSCALE:GREGORIAN
METHOD:PUBLISH
X-WR-CALNAME:Diefenbunker: Canada’s Cold War Museum
X-ORIGINAL-URL:https://diefenbunker.ca
X-WR-CALDESC:Events for Diefenbunker: Canada’s Cold War Museum
REFRESH-INTERVAL;VALUE=DURATION:PT1H
X-Robots-Tag:noindex
X-PUBLISHED-TTL:PT1H
BEGIN:VTIMEZONE
TZID:America/Halifax
BEGIN:DAYLIGHT
TZOFFSETFROM:-0400
TZOFFSETTO:-0300
TZNAME:ADT
DTSTART:20230312T060000
END:DAYLIGHT
BEGIN:STANDARD
TZOFFSETFROM:-0300
TZOFFSETTO:-0400
TZNAME:AST
DTSTART:20231105T050000
END:STANDARD
BEGIN:DAYLIGHT
TZOFFSETFROM:-0400
TZOFFSETTO:-0300
TZNAME:ADT
DTSTART:20240310T060000
END:DAYLIGHT
BEGIN:STANDARD
TZOFFSETFROM:-0300
TZOFFSETTO:-0400
TZNAME:AST
DTSTART:20241103T050000
END:STANDARD
BEGIN:DAYLIGHT
TZOFFSETFROM:-0400
TZOFFSETTO:-0300
TZNAME:ADT
DTSTART:20250309T060000
END:DAYLIGHT
BEGIN:STANDARD
TZOFFSETFROM:-0300
TZOFFSETTO:-0400
TZNAME:AST
DTSTART:20251102T050000
END:STANDARD
END:VTIMEZONE
BEGIN:VEVENT
DTSTART;TZID=America/Halifax:20240330T100000
DTEND;TZID=America/Halifax:20240330T150000
DTSTAMP:20260422T111139
CREATED:20240912T115122Z
LAST-MODIFIED:20240929T231354Z
UID:10000031-1711792800-1711810800@diefenbunker.ca
SUMMARY:Easter at the Bunker
DESCRIPTION:Spring has sprung! You’re invited to burrow underground and join our groundhog Bunker Buddy\, Pudge\, for some family fun at the Diefenbunker’s annual spring event. \nSee what treats the Easter Bunny has left behind for you as you explore our four-storey Cold War bunker while searching for signs of spring. Decorate an egg at our craft station\, plant some seeds to take home with you\, and snap a few photos in our themed photo booth. You can also participate in our visual scavenger hunt and other games including giant Jenga\, a bean bag toss\, and pin the tail on the bunny. Don’t forget to pick up your goodie bag along the way! \nHop on over to the Diefenbunker — we’re egg-cited to see you! \nDate: Saturday\, March 30\, 2024 \nTime:\n> Entry time slots are every 15 minutes beginning at 10:00 a.m.\n> The last entry time is 2:00 p.m. and the museum closes at 3:00 p.m.\n> Please arrive during your scheduled entry time. If you miss your entry time\, you may need to wait outside the museum due to capacity limits. \nAdmission:\n> $12 per person; Infants 2 and under are free.\n> Tickets must be purchased in advance\, as there are designated time slots and limited spots available.\n> Parking is always free! \nDetails:\n> All items on the scavenger hunt are visual and do not involve picking up or holding any objects. There are no physical eggs or chocolates in the scavenger hunt. Any treats provided are in the goodie bags which will be given out at the end of your visit (nut-free\, and while supplies last).\n> Please note that the multiple levels\, stairs\, and narrow hallways in the Diefenbunker make the museum difficult to navigate with a stroller. We recommend bringing a baby carrier instead\, if this is a feasible option for you. \n>> Book your tickets\n\n*The museum will not be open for general admission on Saturday\, March 30; only to those with tickets for Easter at the Bunker. \n*On Good Friday\, March 29\, we will be open for general admission from 10:00 a.m. to 4:00 p.m.\, with extra English and French tour times available. We highly recommend you book your Easter weekend tickets in advance. \n\n   
URL:https://diefenbunker.ca/events/2024-easter-at-the-bunker/
LOCATION:Diefenbunker: Canada’s Cold War Museum\, 3929 Carp Road\, Ottawa\, Ontario\, K0A 1L0\, Canada
CATEGORIES:Events EN
ATTACH;FMTTYPE=image/png:https://diefenbunker.ca/wp-content/uploads/2024/09/Easter-homepage-banner-1.png
END:VEVENT
END:VCALENDAR