BEGIN:VCALENDAR
VERSION:2.0
PRODID:-//Diefenbunker: Canada’s Cold War Museum - ECPv6.15.20//NONSGML v1.0//EN
CALSCALE:GREGORIAN
METHOD:PUBLISH
X-ORIGINAL-URL:https://diefenbunker.ca
X-WR-CALDESC:Events for Diefenbunker: Canada’s Cold War Museum
REFRESH-INTERVAL;VALUE=DURATION:PT1H
X-Robots-Tag:noindex
X-PUBLISHED-TTL:PT1H
BEGIN:VTIMEZONE
TZID:America/Halifax
BEGIN:DAYLIGHT
TZOFFSETFROM:-0400
TZOFFSETTO:-0300
TZNAME:ADT
DTSTART:20230312T060000
END:DAYLIGHT
BEGIN:STANDARD
TZOFFSETFROM:-0300
TZOFFSETTO:-0400
TZNAME:AST
DTSTART:20231105T050000
END:STANDARD
BEGIN:DAYLIGHT
TZOFFSETFROM:-0400
TZOFFSETTO:-0300
TZNAME:ADT
DTSTART:20240310T060000
END:DAYLIGHT
BEGIN:STANDARD
TZOFFSETFROM:-0300
TZOFFSETTO:-0400
TZNAME:AST
DTSTART:20241103T050000
END:STANDARD
BEGIN:DAYLIGHT
TZOFFSETFROM:-0400
TZOFFSETTO:-0300
TZNAME:ADT
DTSTART:20250309T060000
END:DAYLIGHT
BEGIN:STANDARD
TZOFFSETFROM:-0300
TZOFFSETTO:-0400
TZNAME:AST
DTSTART:20251102T050000
END:STANDARD
END:VTIMEZONE
BEGIN:VEVENT
DTSTART;VALUE=DATE:20240202
DTEND;VALUE=DATE:20240205
DTSTAMP:20260422T125903
CREATED:20240929T230611Z
LAST-MODIFIED:20241105T134651Z
UID:10000041-1706832000-1707091199@diefenbunker.ca
SUMMARY:Winterlude: Celebrating Indigenous Cultures
DESCRIPTION:Join us at the Diefenbunker for Winterlude 2024! Winterlude has been held in Ottawa-Gatineau every year in February since 1979. This flagship winter festival celebrates Canada’s unique northern culture and climate. \nWeek 1: Celebrating Indigenous cultures\nFriday\, February 2 – Sunday\, February 4\, 2024\nDuring the museum’s operational hours \nExplore Inuit perspectives from the Cold War in the exhibition An Inuit Story: The DEW Line\, or experience the Diefenbunker’s history as you walk through the historic site listening to an Audio Guide\, available in Inuktitut\, Ojibwe\, and seven other languages. \nActivities are included in the cost of museum admission. The Diefenbunker offers free admission to Nunavut Tunngavik Inc. (NTI) Enrolment Cardholders. This event is inspired by the Diefenbunker’s commitment to inclusion and accessibility. The museum endeavours to increase representation and respectful interpretation of important Indigenous histories. \n\n\n\nRejoignez-nous au Diefenbunker pour le Bal de Neige de 2024! Le Bal de Neige a lieu chaque année en février à Ottawa-Gatineau depuis 1979. Cet événement phare de la saison hivernale célèbre la culture et le climat nordique uniques du Canada. \n1er semaine : Célébrez les cultures autochtones\nLe vendredi 2 février au dimanche 4 février\, 2024\nPendant les heures d’ouverture du musée \nExplorez les perspectives inuites de la guerre froide dans l’exposition Une histoire inuite – Le Réseau DEW\, ou découvrez l’histoire du Diefenbunker en parcourant le site historique en écoutant un audioguide qui est disponible en inuktitut\, en ojibwe et dans sept autres langues. \nLes activités sont comprises avec l’entrée générale au musée. Le Diefenbunker offre l’entrée gratuite aux titulaires de la carte d’inscription de Nunavut Tunngavik Inc. (NTI). Cet événement s’inspire de l’engagement du Diefenbunker envers l’inclusion et l’accessibilité. Le musée s’efforce d’accroître la représentation et l’interprétation respectueuse des histoires autochtones importantes. \n\n\n\n\n\nOngoing\nSnowflake Scavenger Hunt\nFriday\, February 2 – Sunday\, February 18\, 2024\nDuring the museum’s operational hours \nStay warm and explore our 100\,000-square-foot underground museum as you search for snowflakes and other signs of winter in our Snowflake Scavenger Hunt. \nFamilies will be given a guide for a visual scavenger hunt\, with three levels of difficulty to suit all abilities. \nThis event is included in the cost of museum admission. \n\n\n \n\nEn cours\nChasse au trésor des flocons de neige\nLe vendredi 2 février au dimanche 18 février\, 2024\nPendant les heures d’ouverture du musée \nRéchauffez-vous et explorez un musée souterrain de 9290 m2 à la recherche des flocons de neige et d’autres symboles de l’hiver dans notre Chasse au trésor des flocons de neige. \nLes familles seront fournies d’un guide pour un chasse au trésor visuel avec trois niveaux de difficulté pour convenir à toute capacité. \nL’admission générale au Diefenbunker comprend l’admission à cet événement. \n\n\n\n \n\n\nLearn more about our other events in the 2024 Winterlude festival!\nWednesday\, February 7 – Sunday\, February 11\, 2024: Follow the Rainbow \nSaturday\, February 17\, 2024: Diefenbunker Winter Carnival \n\n\n \n\nApprenez-en plus sur nos autres événements du Bal de Neige 2024 !\nLe mercredi 7 février au dimanche 11 février\, 2024 : Suivez l’arc-en-ciel \nLe samedi 17 février\, 2024 : Le carnaval d’hiver du Diefenbunker \n\n\n\n \n\n\nLearn more about Winterlude\nApprenez plus du Bal de Neige
URL:https://diefenbunker.ca/events/winterlude-2024-celebrating-indigenous-cultures/
LOCATION:Ontario
CATEGORIES:Events EN
ATTACH;FMTTYPE=image/jpeg:https://diefenbunker.ca/wp-content/uploads/2024/09/Winterlude-2024_Banner-scaled.jpg
END:VEVENT
BEGIN:VEVENT
DTSTART;VALUE=DATE:20240207
DTEND;VALUE=DATE:20240212
DTSTAMP:20260422T125903
CREATED:20240929T230903Z
LAST-MODIFIED:20241105T134704Z
UID:10000042-1707264000-1707695999@diefenbunker.ca
SUMMARY:Winterlude: Follow the Rainbow
DESCRIPTION:Join us at the Diefenbunker for Winterlude 2024! Winterlude has been held in Ottawa-Gatineau every year in February since 1979. This flagship winter festival celebrates Canada’s unique northern culture and climate. \nWeek 2: Follow the Rainbow\nWednesday\, February 7 – Sunday\, February 11\, 2024\nDuring the museum’s operational hours \nTravel back in time and explore the four storeys of the Diefenbunker while you search for historic objects and retro décor in all the colours of the rainbow. Families will be given a guide for a visual scavenger hunt with varying levels of difficulty to suit all abilities. Complete the scavenger hunt to receive a prize! \nThis event is included in the cost of museum admission. This event is inspired by the Diefenbunker’s accreditation as a Rainbow Registered organization and its commitment to creating an inclusive space for all. \n\n\n\nRejoignez-nous au Diefenbunker pour le Bal de Neige de 2024! Le Bal de Neige a lieu chaque année en février à Ottawa-Gatineau depuis 1979. Cet événement phare de la saison hivernale célèbre la culture et le climat nordique uniques du Canada. \n2e semaine : Suivez l’arc-en-ciel\nLe mercredi 7 février au dimanche 11 février\, 2024\nPendant les heures d’ouverture du musée \nVoyagez dans le passé et explorez les quatre étages du Diefenbunker à la recherche d’objets historiques et de décors rétro de toutes les couleurs de l’arc-en-ciel. Les familles recevront un guide pour une chasse au trésor visuelle avec différents niveaux de difficulté. Complétez la chasse au trésor pour recevoir un prix! \nCet événement est compris avec l’entrée générale au musée. Cet événement s’inspire de l’accréditation du Diefenbunker en tant qu’organisation inscrite à l’Arc-en-ciel Officiel pour son engagement à créer un espace inclusif pour tous. \n\n\n\n\n\nOngoing\nSnowflake Scavenger Hunt\nFriday\, February 2 – Sunday\, February 18\, 2024\nDuring the museum’s operational hours \nStay warm and explore our 100\,000-square-foot underground museum as you search for snowflakes and other signs of winter in our Snowflake Scavenger Hunt. \nFamilies will be given a guide for a visual scavenger hunt\, with three levels of difficulty to suit all abilities. \nThis event is included in the cost of museum admission. \n\n\n \n\nEn cours\nChasse au trésor des flocons de neige\nLe vendredi 2 février au dimanche 18 février\, 2024\nPendant les heures d’ouverture du musée \nRéchauffez-vous et explorez un musée souterrain de 9290 m2 à la recherche des flocons de neige et d’autres symboles de l’hiver dans notre Chasse au trésor des flocons de neige. \nLes familles seront fournies d’un guide pour un chasse au trésor visuel avec trois niveaux de difficulté pour convenir à toute capacité. \nL’admission générale au Diefenbunker comprend l’admission à cet événement. \n\n\n\n \n\n\nLearn more about our other events in the 2024 Winterlude festival!\nFriday\, February 2 – Sunday\, February 4\, 2024: Celebrating Indigenous Cultures \nSaturday\, February 17\, 2024: Diefenbunker Winter Carnival \n\n\n \n\nApprenez-en plus sur nos autres événements du Bal de Neige 2024 !\nLe vendredi 2 février au dimanche 4 février\, 2024 : Célébrez les cultures autochtones \nLe samedi 17 février\, 2024 : Le carnaval d’hiver du Diefenbunker \n\n\n\n \n\n\nLearn more about Winterlude\nApprenez plus du Bal de Neige
URL:https://diefenbunker.ca/events/winterlude-2024-follow-the-rainbow/
LOCATION:Ontario
CATEGORIES:Events EN
ATTACH;FMTTYPE=image/jpeg:https://diefenbunker.ca/wp-content/uploads/2024/09/Winterlude-2024_Banner-scaled.jpg
END:VEVENT
BEGIN:VEVENT
DTSTART;TZID=America/Halifax:20240210T190000
DTEND;TZID=America/Halifax:20240210T223000
DTSTAMP:20260422T125903
CREATED:20240929T231234Z
LAST-MODIFIED:20240929T231234Z
UID:10000043-1707591600-1707604200@diefenbunker.ca
SUMMARY:Atomic Love
DESCRIPTION:Atomic Love is returning to the Diefenbunker! Discover uncorked vintages\, 75 feet underground\, as you sip and savour delectable wine and cheese pairings on a special interactive tour of our impressive four-storey underground Cold War communications headquarters. \nEnjoy noires notes and nuclear nectars on this perfect Valentine’s date night or evening out with friends\, while immersing yourself in our one-of-a-kind museum and national historic site as you journey through the Bank of Canada Vault\, War Cabinet Room\, and more. \nTickets\nIndividual: $80.00\n– Six wine and cheese pairings\n– Cocktail snacks\, coffee\, and tea\n– Access to full cash bar \nDesignated Driver: $50.00\n– Six cheese plates\n– Cocktail snacks\, coffee\, and tea\n– Two drink tickets for non-alcoholic beverages\n– Access to non-alcoholic beverages at the cash bar \nLooking for something extra sweet? When you purchase your tickets before February 1 at 11:59 p.m. ET\, you can choose to add on a box of handmade chocolates. Four chocolate truffles are thoughtfully crafted by a local chocolatier at The Swan at Carp\, and are gluten- and nut-free. \nEvent Details\n6:30 p.m. Doors open to guests.\n7:00 p.m. First pairing begins in the historic Cafeteria space.\n7:20 p.m. Four additional pairings are served by sommeliers at stops on a guided tour of the museum.\n9:20 p.m. Guests are invited back to the Cafeteria for the final pairing.\n10:30 p.m. Event ends. \nAll guests are welcome to take pictures in our Valentine’s themed photo booth\, and they can also enjoy tasteful tunes to cleanse the palate in between tasting destinations. Single roses will also be available for purchase\, and you can try one of our specialty themed cocktails at the cash bar. \nWines are thoughtfully selected and served by the local Savvy Company and KIN Vineyards. \nTickets must be purchased in advance. Ticket sales close on Thursday\, February 8 at 11:59 p.m. ET. \n>> RESERVE YOUR TICKETS
URL:https://diefenbunker.ca/events/atomic-love-2024/
LOCATION:Diefenbunker: Canada’s Cold War Museum\, 3929 Carp Road\, Ottawa\, Ontario\, K0A 1L0\, Canada
CATEGORIES:Events EN
ATTACH;FMTTYPE=image/png:https://diefenbunker.ca/wp-content/uploads/2024/09/Atomic-Love-2024.png
END:VEVENT
BEGIN:VEVENT
DTSTART;TZID=America/Halifax:20240217T110000
DTEND;TZID=America/Halifax:20240217T140000
DTSTAMP:20260422T125903
CREATED:20240912T112742Z
LAST-MODIFIED:20241105T134716Z
UID:10000030-1708167600-1708178400@diefenbunker.ca
SUMMARY:Winterlude: Diefenbunker Winter Carnival
DESCRIPTION:Join us at the Diefenbunker for Winterlude 2024! Winterlude has been held in Ottawa-Gatineau every year in February since 1979. This flagship winter festival celebrates Canada’s unique northern culture and climate. \nWeek 3: Diefenbunker Winter Carnival\nSaturday\, February 17\, 2024\n11:00 a.m. to 2:00 p.m. \nDuring its time as a military base\, the Diefenbunker held an annual Winter Carnival. Participate in these historic activities\, with a modern twist — snow sculpting\, snow painting\, a tug of war challenge\, or traversing the snowy trails of the scenic bunker hillside. Warm up indoors with free hot chocolate or by exploring a temporary exhibit highlighting the traditions of the Winter Carnival through stories\, videos\, and artifacts. \nOutdoor activities are free. The temporary exhibit is included in the cost of museum admission. \n  \n\n\nRejoignez-nous au Diefenbunker pour le Bal de Neige de 2024! Le Bal de Neige a lieu chaque année en février à Ottawa-Gatineau depuis 1979. Cet événement phare de la saison hivernale célèbre la culture et le climat nordique uniques du Canada. \n3e semaine : Le carnaval d’hiver du Diefenbunker\nLe samedi 17 février\, 2024\n11 h 00 à 14 h 00 \nÀ l’époque où il servait de base militaire\, le Diefenbunker organisait un carnaval d’hiver annuel. Participez à ces activités historiques dans la neige : la sculpture\, un jeu de tir à la corde ou une promenade sur les sentiers de la colline pittoresque du bunker. Réchauffez-vous à l’intérieur avec un chocolat chaud gratuit ou en explorant une exposition temporaire qui présente les histoires et les artéfacts du carnaval d’hiver. \nLes activités extérieures sont gratuites. L’exposition temporaire est comprise avec l’entrée générale au musée. \n\n\n\n\n\nOngoing\nSnowflake Scavenger Hunt\nFriday\, February 2 – Sunday\, February 18\, 2024\nDuring the museum’s operational hours \nStay warm and explore our 100\,000-square-foot underground museum as you search for snowflakes and other signs of winter in our Snowflake Scavenger Hunt. \nFamilies will be given a guide for a visual scavenger hunt\, with three levels of difficulty to suit all abilities. \nThis event is included in the cost of museum admission. \n\n\n \n\nEn cours\nChasse au trésor des flocons de neige\nLe vendredi 2 février au dimanche 18 février\, 2024\nPendant les heures d’ouverture du musée \nRéchauffez-vous et explorez un musée souterrain de 9290 m2 à la recherche des flocons de neige et d’autres symboles de l’hiver dans notre Chasse au trésor des flocons de neige. \nLes familles seront fournies d’un guide pour un chasse au trésor visuel avec trois niveaux de difficulté pour convenir à toute capacité. \nL’admission générale au Diefenbunker comprend l’admission à cet événement. \n\n\n\n \n\n\nLearn more about our other events in the 2024 Winterlude festival!\nFriday\, February 2 – Sunday\, February 4\, 2024: Celebrating Indigenous Cultures \nWednesday\, February 7 – Sunday\, February 11\, 2024: Follow the Rainbow \n\n\n \n\nApprenez-en plus sur nos autres événements du Bal de Neige 2024 !\nLe samedi 2 février au dimanche 4 février\, 2024 : Célébrez les cultures autochtones \nLe mercredi 7 février au dimanche 11 février\, 2024 : Suivez l’arc-en-ciel \n\n\n\n \n\n\nLearn more about Winterlude\nApprenez plus du Bal de Neige
URL:https://diefenbunker.ca/events/winterlude-2024-diefenbunker-winter-carnival/
LOCATION:Diefenbunker: Canada’s Cold War Museum\, 3929 Carp Road\, Ottawa\, Ontario\, K0A 1L0\, Canada
CATEGORIES:Events EN
ATTACH;FMTTYPE=image/jpeg:https://diefenbunker.ca/wp-content/uploads/2024/09/Winterlude-2024_Banner-scaled.jpg
END:VEVENT
END:VCALENDAR