BEGIN:VCALENDAR
VERSION:2.0
PRODID:-//Diefenbunker: Canada’s Cold War Museum - ECPv6.15.20//NONSGML v1.0//EN
CALSCALE:GREGORIAN
METHOD:PUBLISH
X-WR-CALNAME:Diefenbunker: Canada’s Cold War Museum
X-ORIGINAL-URL:https://diefenbunker.ca
X-WR-CALDESC:Events for Diefenbunker: Canada’s Cold War Museum
REFRESH-INTERVAL;VALUE=DURATION:PT1H
X-Robots-Tag:noindex
X-PUBLISHED-TTL:PT1H
BEGIN:VTIMEZONE
TZID:America/Halifax
BEGIN:DAYLIGHT
TZOFFSETFROM:-0400
TZOFFSETTO:-0300
TZNAME:ADT
DTSTART:20220313T060000
END:DAYLIGHT
BEGIN:STANDARD
TZOFFSETFROM:-0300
TZOFFSETTO:-0400
TZNAME:AST
DTSTART:20221106T050000
END:STANDARD
BEGIN:DAYLIGHT
TZOFFSETFROM:-0400
TZOFFSETTO:-0300
TZNAME:ADT
DTSTART:20230312T060000
END:DAYLIGHT
BEGIN:STANDARD
TZOFFSETFROM:-0300
TZOFFSETTO:-0400
TZNAME:AST
DTSTART:20231105T050000
END:STANDARD
BEGIN:DAYLIGHT
TZOFFSETFROM:-0400
TZOFFSETTO:-0300
TZNAME:ADT
DTSTART:20240310T060000
END:DAYLIGHT
BEGIN:STANDARD
TZOFFSETFROM:-0300
TZOFFSETTO:-0400
TZNAME:AST
DTSTART:20241103T050000
END:STANDARD
END:VTIMEZONE
BEGIN:VEVENT
DTSTART;TZID=America/Halifax:20231116T120000
DTEND;TZID=America/Halifax:20231116T130000
DTSTAMP:20260422T174618
CREATED:20240910T134656Z
LAST-MODIFIED:20240929T225754Z
UID:10000028-1700136000-1700139600@diefenbunker.ca
SUMMARY:2023 Cold War Speaker Series: Spies\, Lies\, and Macho Guys: Documenting RCMP Surveillance against the Women’s Liberation Movement in Canada
DESCRIPTION:We invite you to join us virtually this fall for the Diefenbunker’s Cold War Speaker Series! In this series of free talks\, hear from experts on a variety of relevant topics to bring you new perspectives on Cold War themes and events. \nSession 3\nDate: Thursday\, November 16\, 2023\nTime: 12:00 – 1:00 p.m. ET\nTopic: Spies\, Lies\, and Macho Guys: Documenting RCMP Surveillance against the Women’s Liberation Movement in Canada\nSpeakers: Christabelle Sethna and Steve Hewitt\nCost: Free \nDetails:\n– Hosted virtually on Zoom. Advance registration is required to receive the Zoom link.\n– Includes a presentation followed by a Q&A\, for a total of approximately one hour.\n– Session will be recorded for educational purposes. \nPresentation Overview:\nSpies\, Lies\, and Macho Guys: Documenting RCMP Surveillance against the Women’s Liberation Movement in Canada \nAs in a number of western countries\, Cold War spying on individuals\, groups\, and activities considered subversive was widespread in Canada. Authors Christabelle Sethna and Steve Hewitt discuss their book\, Just Watch Us: RCMP Surveillance of the Women’s Liberation Movement in Cold War Canada\, and the declassified RCMP Security Service documents they used to research and understand the efforts of a predominantly male police force to spy on the Women’s Liberation Movement from the 1960s to the 1980s. \nSpeaker Bios:\nDr. Christabelle Sethna\, Ph.D. is a historian and Full Professor in the Institute of Feminist and Gender Studies\, University of Ottawa\, teaching courses on feminist methodologies\, anti-racism\, colonialism\, and critical animal studies. She has published widely on sex education\, contraception\, and abortion transnational histories\, with a focus on Canada. She is the co-author or co-editor of the following books: Animal Metropolis (2017\, UCalgary)\, Just Watch Us (2018\, UMcGill)\, Abortion Across Borders (2019\, Johns Hopkins)\, and No Place for the State (2020\, UBC). Her research has been supported by the Social Sciences and Research Council of Canada (SSHRC) and she is currently Principal Investigator for a SSHRC-funded project about women’s transnational travel for abortion services\, 1960s–1990s. \nSteve Hewitt is an Associate Professor in North American history at the University of Birmingham in the United Kingdom. He has written extensively on topics related to security and intelligence in the past and present. His past books include Spying 101: The RCMP’s Secret Activities at Canadian Universities\, 1917-1997 and\, co-authored with Christabelle Sethna\, Just Watch Us: RCMP Surveillance of the Women’s Liberation Movement in Cold War Canada. Currently\, he is working on a history of terrorism and counter-terrorism in Canada. \n\n  \n» Register for the Speaker Series\n  \n\nLearn more about the other presentations in the 2023 Cold War Speaker Series!\nSeptember 28\, 2023: P. Whitney Lackenbauer\, Ph.D. discussing “When the Skies Rained Boxes”: Northern Canadians and Continental Defence during the Cold War \nOctober 12\, 2023: Joanna Smolko and Tim Smolko discussing How Popular Musicians Addressed the Cold War in the US and Canada
URL:https://diefenbunker.ca/events/2023-cold-war-speaker-series-spies-lies-and-macho-guys-documenting-rcmp-surveillance-against-the-womens-liberation-movement-in-canada/
LOCATION:Virtual\, Virtual
CATEGORIES:Events EN
ATTACH;FMTTYPE=image/png:https://diefenbunker.ca/wp-content/uploads/2024/09/Cold-War-Speaker-Series_website-banner_2023-1.png
END:VEVENT
BEGIN:VEVENT
DTSTART;VALUE=DATE:20231118
DTEND;VALUE=DATE:20231119
DTSTAMP:20260422T174618
CREATED:20240910T135439Z
LAST-MODIFIED:20240929T225951Z
UID:10000029-1700265600-1700351999@diefenbunker.ca
SUMMARY:2023 Whisky Tasting Fundraiser
DESCRIPTION:Our signature annual Whisky Tasting Fundraiser returns to the Diefenbunker this year. Descend into history and join us 75 feet underground for an evening of tasteful pairings: whisky sampling and a walk through history\, with light fare and tasteful tunes to cleanse the palate.  \nSavour unique flavours and a slice of the past\, while contributing to our preservation of Canada’s most significant Cold War artifact and an important platform to share lessons from a critical period of recent world history.  \nOur creative whisky selections are thoughtfully prepared by the local Savvy Company and will be introduced by their sommelier\, with delectable paired dishes provided by The Swan at Carp.  \nTickets\nIndividual: $150.00\n– Four whisky and food pairings\n– Access to full cash bar  \nDesignated Driver: $90.00\n– Four food plates\n– Two drink tickets for non-alcoholic beverages\n– Access to non-alcoholic beverages at the cash bar  \nFull Table: $1\,080.00\n– Seating for 8\n– Four whisky and food pairings\n– Access to full cash bar\n– *A limited number of full tables are available.  \nAll guests can also participate in our silent auction\, raffle\, and 50/50 draw\, take pictures in our retro photo booth\, and have the opportunity to explore the Diefenbunker — experience immersive recreated spaces underground\, alongside our newest offerings\, including a virtual reality experience\, an audiovisual display in the Blast Tunnel\, a nine-language audio guide\, and two new permanent exhibitions sharing diverse perspectives from Canada’s Cold War story.  \nEvent Details\n6:30 p.m. Doors open and guests can self-guide through the museum.\n6:45 p.m. Seating begins in the historic Cafeteria space\, and the cash bar opens.\n7:00 p.m. Formal event begins\, with sommelier-led whisky and food pairings being served.\n9:00 p.m. Event ends.  \nTickets must be purchased in advance.  \n>> RESERVE YOUR TICKETS\n     \n\n\nWhat cause am I supporting?\nThe Diefenbunker: Canada’s Cold War Museum is a once-top secret\, four-storey underground bunker\, now a one-of-a-kind museum and national historic site. The Diefenbunker is also Canada’s most significant Cold War artifact — it is a powerful reminder of our world on the edge of nuclear war\, and tells the story of Canada’s resourcefulness\, preparedness\, and extraordinary efforts to safeguard our way of life in the face of a nuclear catastrophe.  \nWith your help\, we can preserve this important window into the past and continue to share lessons for future generations to learn from our past and envision a more peaceful future. Your support through this signature event will contribute to our charity’s preservation and conservation efforts of a one-of-a-kind historic site\, along with our ability to offer high-quality exhibitions and educational programs to visitors year-round.  \nTax receipts will be issued after the event to the ticket purchaser\, only for the value of the donation portion of the ticket price.  \nInterested in sponsoring the event? Learn about sponsorship opportunities here. \n     \n\n\nWhisky selections\nGuests will be served 1 oz of each whisky. Tasting order and selections are subject to change. \n– Rabbit Hole Dareringer Bourbon Whisky (caramel\, sweet cherry\, raisins\, almonds\, vanilla) (United States)\n– Bladnoch Vinaya Lowland Single Malt Scotch Whisky (florals\, chocolate\, spices\, green apple) (Scotland)\n– Penderyn Sherrywood Single Malt Whisky (dried fruit\, dark chocolate\, berries\, toasty oak\, roasted nuts) (Scotland)\n– Aberfeldy 16 Year Old Highland Single Malt Scotch Whisky (butterscotch\, vanilla\, sweet oak) (Scotland) \nSilent auction: Take home a piece of history\nWe are pleased to announce a featured item in the event’s silent auction. We are offering you an exclusive opportunity to have your very own piece of Cold War history: a vintage Eames-style chair. \nSeen throughout the Diefenbunker\, these iconic chairs were originally designed by Americans Charles and Ray Eames in the 1950s as a staple piece of furniture that was practical yet fashionable\, sturdy yet light\, and that could be mass-produced. Since the original fibreglass design\, the Eames brothers have produced several different models and styles of chairs that can still be found in homes and offices around the world. \nWhile the chairs in the silent auction are not artifacts of the bunker\, they do represent an aspect of North American culture during Cold War era and give us a glimpse into what life was like at the time. By taking home one of these stylish pieces from the Diefenbunker’s storage\, you are supporting our ability to continue stewarding the expansion of our collections and our preservation efforts. \nLook forward to other unique silent auction and raffle items including: \n– Private Tour of the Diefenbunker’s Machine Room (for up to 10 people)\n– Private Tour of the Diefenbunker’s Collections (for up to 5 people)\n– Diefenbunker Gift Basket\n– Diefenbunker Membership \n\n\nTHANK YOU TO OUR EVENT SPONSORS\nURANIUM\n \n \nFood Sponsor: The Swan at Carp \n \nNEPTUNIUM\n \nEquipment sponsor: Mastermind Event Rentals
URL:https://diefenbunker.ca/events/2023-whisky-tasting-fundraiser/
LOCATION:Diefenbunker: Canada’s Cold War Museum\, 3929 Carp Road\, Ottawa\, Ontario\, K0A 1L0\, Canada
CATEGORIES:Events EN
ATTACH;FMTTYPE=image/png:https://diefenbunker.ca/wp-content/uploads/2024/09/Whisky-Tasting-Fundraiser-2023-banner.png
END:VEVENT
END:VCALENDAR