BEGIN:VCALENDAR
VERSION:2.0
PRODID:-//Diefenbunker: Canada’s Cold War Museum - ECPv6.15.20//NONSGML v1.0//EN
CALSCALE:GREGORIAN
METHOD:PUBLISH
X-ORIGINAL-URL:https://diefenbunker.ca
X-WR-CALDESC:Events for Diefenbunker: Canada’s Cold War Museum
REFRESH-INTERVAL;VALUE=DURATION:PT1H
X-Robots-Tag:noindex
X-PUBLISHED-TTL:PT1H
BEGIN:VTIMEZONE
TZID:America/Halifax
BEGIN:DAYLIGHT
TZOFFSETFROM:-0400
TZOFFSETTO:-0300
TZNAME:ADT
DTSTART:20220313T060000
END:DAYLIGHT
BEGIN:STANDARD
TZOFFSETFROM:-0300
TZOFFSETTO:-0400
TZNAME:AST
DTSTART:20221106T050000
END:STANDARD
BEGIN:DAYLIGHT
TZOFFSETFROM:-0400
TZOFFSETTO:-0300
TZNAME:ADT
DTSTART:20230312T060000
END:DAYLIGHT
BEGIN:STANDARD
TZOFFSETFROM:-0300
TZOFFSETTO:-0400
TZNAME:AST
DTSTART:20231105T050000
END:STANDARD
BEGIN:DAYLIGHT
TZOFFSETFROM:-0400
TZOFFSETTO:-0300
TZNAME:ADT
DTSTART:20240310T060000
END:DAYLIGHT
BEGIN:STANDARD
TZOFFSETFROM:-0300
TZOFFSETTO:-0400
TZNAME:AST
DTSTART:20241103T050000
END:STANDARD
END:VTIMEZONE
BEGIN:VEVENT
DTSTART;TZID=America/Halifax:20230603T100000
DTEND;TZID=America/Halifax:20230603T150000
DTSTAMP:20260423T022917
CREATED:20240910T123513Z
LAST-MODIFIED:20250516T185652Z
UID:10000022-1685786400-1685804400@diefenbunker.ca
SUMMARY:2023 Doors Open Ottawa at the Diefenbunker
DESCRIPTION:Tickets for Doors Open Ottawa 2023 are now sold out. Due to capacity\, no walk-up visitors will be allowed entry on Saturday\, June 3. The museum returns to its regular operations on Sunday\, June 4.\nBy reservation only\, the Diefenbunker: Canada’s Cold War Museum will be opening its blast doors to visitors for free for Doors Open Ottawa on Saturday\, June 3\, 2023. \nPlease be advised that due to capacity\, if you do not have a reservation\, you will not be allowed entry into the Diefenbunker. \nDate: Saturday\, June 3\, 2023 (one day only!)\nTime: 10:00 a.m. – 3:00 p.m. Timed entry every 20 minutes\, with the last entry time at 2:00 p.m.\nCost: FREE! We welcome donations to support our unique museum and national historic site. \nDetails:\n– Tickets must be reserved in advance. Due to capacity\, no walk-up visitors will be allowed entry.\n– There will be no guided tours available; only self-guided exploration of the museum.\n– Our free nine-language Audio Guide can be accessed on your own device using the museum’s Wi-Fi. No Audio Guide devices will be available at the museum.\n– We also encourage you to check out the Interpretive Trail outside the museum. \nThe City of Ottawa is proud to present Doors Open Ottawa — a free annual architectural event that celebrates our community’s built heritage. It is the second-largest Doors Open event in Canada\, and one of the largest in the world! Learn more about 2023 Doors Open Ottawa.
URL:https://diefenbunker.ca/events/2023-doors-open-ottawa-at-the-diefenbunker/
LOCATION:Diefenbunker: Canada’s Cold War Museum\, 3929 Carp Road\, Ottawa\, Ontario\, K0A 1L0\, Canada
CATEGORIES:Events EN
ATTACH;FMTTYPE=image/jpeg:https://diefenbunker.ca/wp-content/uploads/2024/09/Doors-Open-2023-760x463-1.jpg
END:VEVENT
END:VCALENDAR