BEGIN:VCALENDAR
VERSION:2.0
PRODID:-//Diefenbunker: Canada’s Cold War Museum - ECPv6.15.20//NONSGML v1.0//EN
CALSCALE:GREGORIAN
METHOD:PUBLISH
X-WR-CALNAME:Diefenbunker: Canada’s Cold War Museum
X-ORIGINAL-URL:https://diefenbunker.ca
X-WR-CALDESC:Events for Diefenbunker: Canada’s Cold War Museum
REFRESH-INTERVAL;VALUE=DURATION:PT1H
X-Robots-Tag:noindex
X-PUBLISHED-TTL:PT1H
BEGIN:VTIMEZONE
TZID:America/Halifax
BEGIN:DAYLIGHT
TZOFFSETFROM:-0400
TZOFFSETTO:-0300
TZNAME:ADT
DTSTART:20220313T060000
END:DAYLIGHT
BEGIN:STANDARD
TZOFFSETFROM:-0300
TZOFFSETTO:-0400
TZNAME:AST
DTSTART:20221106T050000
END:STANDARD
BEGIN:DAYLIGHT
TZOFFSETFROM:-0400
TZOFFSETTO:-0300
TZNAME:ADT
DTSTART:20230312T060000
END:DAYLIGHT
BEGIN:STANDARD
TZOFFSETFROM:-0300
TZOFFSETTO:-0400
TZNAME:AST
DTSTART:20231105T050000
END:STANDARD
BEGIN:DAYLIGHT
TZOFFSETFROM:-0400
TZOFFSETTO:-0300
TZNAME:ADT
DTSTART:20240310T060000
END:DAYLIGHT
BEGIN:STANDARD
TZOFFSETFROM:-0300
TZOFFSETTO:-0400
TZNAME:AST
DTSTART:20241103T050000
END:STANDARD
END:VTIMEZONE
BEGIN:VEVENT
DTSTART;TZID=America/Halifax:20230407T100000
DTEND;TZID=America/Halifax:20230407T150000
DTSTAMP:20260423T053035
CREATED:20240910T120806Z
LAST-MODIFIED:20240929T225159Z
UID:10000021-1680861600-1680879600@diefenbunker.ca
SUMMARY:Easter at the Bunker 2023
DESCRIPTION:Spring has sprung! Hop on over to the Diefenbunker to see what the Easter Bunny has left behind for you to find at our annual spring event. \nYou’re invited to explore the bunker as you search for signs of spring and pick up some small treats along the way. Decorate a butterfly or an egg at our craft station\, plant some seeds to take home with you\, and participate in a scavenger hunt for camouflaged eggs and flowers. \nJoin us underground for some springtime family fun. We’re egg-cited to see you! \nDate: Friday\, April 7\, 2023 \nTime:\n> Entry time slots are every 30 minutes beginning at 10:00 a.m.\n> The last entry time is 2:00 p.m. and the museum closes at 3:00 p.m.\n> Please arrive during your scheduled entry time. If you miss your entry time\, you may need to wait outside the museum due to capacity limits. \nAdmission:\n> $12 per person; Infants 2 and under are free.\n> Tickets must be purchased in advance\, as there are designated time slots and limited spots available.\n> Parking is always free! \nDetails:\n> Upon arrival\, you will receive information on the activities.\n> All items on the scavenger hunt are visual and do not involve picking up or holding any objects. There are no physical eggs or chocolates in the scavenger hunt. Any treats provided are found at activity stations throughout the bunker (nut-free\, and while supplies last). \n\n*Please note that the multiple levels\, stairs\, and narrow hallways in the Diefenbunker make the museum difficult to navigate with a stroller. We recommend bringing a baby carrier instead\, if this is a feasible option for you. \n*The museum will not be open for general admission on this day; only to those with tickets for Easter at the Bunker. \n» Book your tickets\n\n   
URL:https://diefenbunker.ca/events/easter-at-the-bunker-2023/
LOCATION:Diefenbunker: Canada’s Cold War Museum\, 3929 Carp Road\, Ottawa\, Ontario\, K0A 1L0\, Canada
CATEGORIES:Events EN
ATTACH;FMTTYPE=image/jpeg:https://diefenbunker.ca/wp-content/uploads/2024/09/20220416_091904-scaled-1-scaled.jpg
END:VEVENT
END:VCALENDAR